BEGIN:VCALENDAR
VERSION:2.0
PRODID:-//eventon.com NONSGML v1.0//EN
CALSCALE:GREGORIAN
METHOD:PUBLISH
BEGIN:VEVENT
UID:69e4f0678bee1
DTSTAMP:20260419T151031Z
DTSTART:20260227T130000Z
DTEND:20260227T140000Z
LOCATION:
SUMMARY:ACW VIRTUAL CHAPTER
DESCRIPTION:We designed this new chapter to support members who may not hav
 e access to a local chapter\,  or whose schedules and travel constraints ma
 ke in-person participation challenging. Our goal is to ensure every ACW mem
 ber\,  regardless of geography\,  feels connected\,  supported and represen
 ted. The ACW Virtual Chapter will provide high-value[..]\nhttps://allianceo
 fchannelwomen.org/blog/events/acw-virtual-chapter
URL:https://allianceofchannelwomen.org/blog/events/acw-virtual-chapter
END:VEVENT
END:VCALENDAR