BEGIN:VCALENDAR
VERSION:2.0
PRODID:-//eventon.com NONSGML v1.0//EN
CALSCALE:GREGORIAN
METHOD:PUBLISH
BEGIN:VEVENT
UID:69e7347152d6b
DTSTAMP:20260421T082521Z
DTSTART:20260312T150000Z
DTEND:20260312T180000Z
LOCATION:
SUMMARY:ACW LOCAL CHAPTER | MINNESOTA
DESCRIPTION:Join us for for a Lunch &amp; Learn-style event focused on how 
 AI is changing the job search—and how to stay ahead of it. Get full detai
 ls and RSVP here: https://www.eventbrite.com/e/navigating-ai-in-your-job-se
 arch-tickets-1982711783317?aff=oddtdtcreator\nhttps://allianceofchannelwome
 n.org/blog/events/acw-local-chapter-minnesota-q126
URL:https://allianceofchannelwomen.org/blog/events/acw-local-chapter-minnesota-q126
END:VEVENT
END:VCALENDAR