BEGIN:VCALENDAR
VERSION:2.0
PRODID:-//eventon.com NONSGML v1.0//EN
CALSCALE:GREGORIAN
METHOD:PUBLISH
BEGIN:VEVENT
UID:69e744a8be480
DTSTAMP:20260421T093432Z
DTSTART:20251107T210000Z
DTEND:20251107T230000Z
LOCATION:
SUMMARY:ACW Local Chapter | Minnesota
DESCRIPTION:Join us for a very special happy hour celebration as we honor t
 his year’s Pioneer Women in Tech award winners with an inspiring (and fun
 !) awards program. Connect with powerhouse women in tech\,  and help suppor
 t Dress for Success Twin Cities with donated professional attire. Presented
  by Minnesota Women in[..]\nhttps://allianceofchannelwomen.org/blog/events/
 acw-local-chapter-minnesota-q4-25
URL:https://allianceofchannelwomen.org/blog/events/acw-local-chapter-minnesota-q4-25
END:VEVENT
END:VCALENDAR