BEGIN:VCALENDAR
VERSION:2.0
PRODID:-//eventon.com NONSGML v1.0//EN
CALSCALE:GREGORIAN
METHOD:PUBLISH
BEGIN:VEVENT
UID:69e8b0229f4d2
DTSTAMP:20260422T112522Z
DTSTART:20250325T230000Z
DTEND:20250326T020000Z
LOCATION:The Venetian Resort Las Vegas 3355 South Las Vegas Boulevard
SUMMARY:ACWConnect Live! Las Vegas 2025
DESCRIPTION:ACWConnect Live! is back for the Channel Partners Conference &a
 mp; Expo\,  and to kick off 2025\,  we are celebrating our 15-year annivers
 ary by honoring our legacy and celebrating our future. GET TICKETS HERE &gt
 ;&gt; The event will be a gathering of passionate individuals committed to 
 fostering a culture of empowerment[..]\nhttps://allianceofchannelwomen.org/
 blog/events/acwconnect-live-las-vegas-2025
URL:https://allianceofchannelwomen.org/blog/events/acwconnect-live-las-vegas-2025
END:VEVENT
END:VCALENDAR