BEGIN:VCALENDAR
VERSION:2.0
PRODID:-//eventon.com NONSGML v1.0//EN
CALSCALE:GREGORIAN
METHOD:PUBLISH
BEGIN:VEVENT
UID:69e72eb8bf787
DTSTAMP:20260421T080056Z
DTSTART:20240717T193000Z
DTEND:20240717T220000Z
LOCATION:
SUMMARY:ACW LOCAL CHAPTER | MICHIGAN
DESCRIPTION:Enjoy drinks &amp; appetizers as you network with other attende
 es. The panel will feature dynamic pairs of women and men from Ostra and Ea
 rthLink\,  discussing overcoming obstacles together in male-dominated indus
 tries. Moderated by Melinda Ann O&#8217;Neill\,  Director of Strategic Acco
 unts at Tanium\,  and Leader of the Michigan ACW chapter. RSVP[..]\nhttps:/
 /allianceofchannelwomen.org/blog/events/acw-local-chapter-michigan-5
URL:https://allianceofchannelwomen.org/blog/events/acw-local-chapter-michigan-5
END:VEVENT
END:VCALENDAR